BEGIN:VCALENDAR
VERSION:2.0
PRODID:icalendar-ruby
CALSCALE:GREGORIAN
BEGIN:VTIMEZONE
TZID:Europe/Berlin
BEGIN:DAYLIGHT
DTSTART:20260329T030000
TZOFFSETFROM:+0100
TZOFFSETTO:+0200
RRULE:FREQ=YEARLY;BYDAY=-1SU;BYMONTH=3
TZNAME:CEST
END:DAYLIGHT
BEGIN:STANDARD
DTSTART:20261025T020000
TZOFFSETFROM:+0200
TZOFFSETTO:+0100
RRULE:FREQ=YEARLY;BYDAY=-1SU;BYMONTH=10
TZNAME:CET
END:STANDARD
END:VTIMEZONE
BEGIN:VEVENT
DTSTAMP:20260419T232518Z
UID:29335
DTSTART;TZID=Europe/Berlin:20260621T170000
DTEND;TZID=Europe/Berlin:20260621T180000
CREATED:20260415T211420
DESCRIPTION:Event: Konzertreise Ottobeuren\n\nChor: Liederkranz Tettnang\n\
 nBeschreibung: Sir Simon Rattle dirigiert am 21. Juni 2026 das Symphonieor
 chester und den Chor des Bayrischen Rundfunks in der Basilika Ottenbeuren.
 \n\nTerminkategorie: Konzert\, Gastkonzert\n\nhttp://liederkranz-tettnang.
 blankmusic.org\n\nwww.blankmusic.org
LAST-MODIFIED:20260415T214032
SUMMARY:Konzertreise Ottobeuren
URL;VALUE=URI:https://liederkranz-tettnang.blankmusic.org/performances?perf
 ormance_id=29335#performance_29335
X-ALT-DESC;FMTTYPE=text/html:Event: <i>Konzertreise Ottobeuren</i><br><br>C
 hor: <i>Liederkranz Tettnang</i><br><br>Beschreibung: <i>Sir Simon Rattle 
 dirigiert am 21. Juni 2026 das Symphonieorchester und den Chor des Bayrisc
 hen Rundfunks in der Basilika Ottenbeuren.</i><br><br>Terminkategorie: <i>
 Konzert\, Gastkonzert</i><br><br>http://liederkranz-tettnang.blankmusic.or
 g<br><br>www.blankmusic.org
END:VEVENT
END:VCALENDAR
